BEGIN:VCALENDAR
VERSION:2.0
PRODID:-//Winter Park, CO | Official Website - ECPv6.15.20//NONSGML v1.0//EN
CALSCALE:GREGORIAN
METHOD:PUBLISH
X-ORIGINAL-URL:https://wpgov.com
X-WR-CALDESC:Events for Winter Park, CO | Official Website
REFRESH-INTERVAL;VALUE=DURATION:PT1H
X-Robots-Tag:noindex
X-PUBLISHED-TTL:PT1H
BEGIN:VTIMEZONE
TZID:America/Denver
BEGIN:DAYLIGHT
TZOFFSETFROM:-0700
TZOFFSETTO:-0600
TZNAME:MDT
DTSTART:20220313T090000
END:DAYLIGHT
BEGIN:STANDARD
TZOFFSETFROM:-0600
TZOFFSETTO:-0700
TZNAME:MST
DTSTART:20221106T080000
END:STANDARD
BEGIN:DAYLIGHT
TZOFFSETFROM:-0700
TZOFFSETTO:-0600
TZNAME:MDT
DTSTART:20230312T090000
END:DAYLIGHT
BEGIN:STANDARD
TZOFFSETFROM:-0600
TZOFFSETTO:-0700
TZNAME:MST
DTSTART:20231105T080000
END:STANDARD
BEGIN:DAYLIGHT
TZOFFSETFROM:-0700
TZOFFSETTO:-0600
TZNAME:MDT
DTSTART:20240310T090000
END:DAYLIGHT
BEGIN:STANDARD
TZOFFSETFROM:-0600
TZOFFSETTO:-0700
TZNAME:MST
DTSTART:20241103T080000
END:STANDARD
END:VTIMEZONE
BEGIN:VEVENT
DTSTART;TZID=America/Denver:20231026T140000
DTEND;TZID=America/Denver:20231026T160000
DTSTAMP:20260425T073718
CREATED:20231011T195618Z
LAST-MODIFIED:20231011T195618Z
UID:13163-1698328800-1698336000@wpgov.com
SUMMARY:Responsible Alcohol Vendor Class
DESCRIPTION:Presented by the Towns of Fraser and Winter Park \nWhen?\nThursday\, October 26\, 2023\, from 2-4 p.m. \nWhere?\nFraser Valley Library (491 Norgren Road\, Fraser) \nWho should attend?\nOwners\, managers\, supervisors\, servers\, bartenders\, special event volunteers\, and anyone else who serves alcohol. \nParticipants will receive a Responsible Alcohol Vendor Certification\, equivalent to TIPS. Training is free to participants; no registration and no RSVP required.
URL:https://wpgov.com/event/responsible-alcohol-vendor-class-22/
LOCATION:Fraser Valley Library\, 491 Norgren Rd\, Fraser\, CO\, 80442\, United States
END:VEVENT
BEGIN:VEVENT
DTSTART;TZID=America/Denver:20230925T140000
DTEND;TZID=America/Denver:20230925T160000
DTSTAMP:20260425T073718
CREATED:20230830T163126Z
LAST-MODIFIED:20230830T163126Z
UID:13043-1695650400-1695657600@wpgov.com
SUMMARY:Responsible Alcohol Vendor Class
DESCRIPTION:Presented by the Towns of Fraser and Winter Park \nWhen?\nMonday\, September 25\, 2023 from 2-4 p.m. \nWhere?\nFraser Valley Library (491 Norgren Road\, Fraser) \nWho should attend?\nOwners\, managers\, supervisors\, servers\, bartenders\, special event volunteers\, and anyone else who serves alcohol. \nParticipants will receive a Responsible Alcohol Vendor Certification\, equivalent to TIPS. Training is free to participants; no registration and no RSVP required.
URL:https://wpgov.com/event/responsible-alcohol-vendor-class-21/
LOCATION:Fraser Valley Library\, 491 Norgren Rd\, Fraser\, CO\, 80442\, United States
END:VEVENT
BEGIN:VEVENT
DTSTART;TZID=America/Denver:20230807T140000
DTEND;TZID=America/Denver:20230807T160000
DTSTAMP:20260425T073718
CREATED:20230719T203750Z
LAST-MODIFIED:20230719T203750Z
UID:12782-1691416800-1691424000@wpgov.com
SUMMARY:Responsible Alcohol Vendor Class
DESCRIPTION:Presented by the Towns of Fraser and Winter Park \nWhen?\nMonday\, August 7\, 2023 from 2-4 p.m. \nWhere?\nFraser Valley Library (491 Norgren Road\, Fraser) \nWho should attend?\nOwners\, managers\, supervisors\, servers\, bartenders\, special event volunteers\, and anyone else who serves alcohol. \nParticipants will receive a Responsible Alcohol Vendor Certification\, equivalent to TIPS. Training is free to participants; no registration and no RSVP required.
URL:https://wpgov.com/event/responsible-alcohol-vendor-class-20/
LOCATION:Fraser Valley Library\, 491 Norgren Rd\, Fraser\, CO\, 80442\, United States
END:VEVENT
BEGIN:VEVENT
DTSTART;TZID=America/Denver:20230501T140000
DTEND;TZID=America/Denver:20230501T160000
DTSTAMP:20260425T073718
CREATED:20230412T165009Z
LAST-MODIFIED:20230412T165009Z
UID:12191-1682949600-1682956800@wpgov.com
SUMMARY:Responsible Alcohol Vendor Class
DESCRIPTION:Presented by the Towns of Fraser and Winter Park \nWhen?  \nMonday\, May 1 from 2-4 p.m. \nWhere?  \nFraser Valley Library (491 Norgren Rd\, Fraser\, CO 80442) \nWho should attend?  \nOwners\, managers\, supervisors\, servers\, bartenders\, special event volunteers\, and anyone else who serves alcohol. \nParticipants will receive a Responsible Alcohol Vendor Certification. Training is free to participants; no registration and no RSVP required. \n 
URL:https://wpgov.com/event/responsible-alcohol-vendor-class-17/
LOCATION:Fraser Valley Library\, 491 Norgren Rd\, Fraser\, CO\, 80442\, United States
END:VEVENT
END:VCALENDAR